BEGIN:VCALENDAR
VERSION:2.0
PRODID:-//Never Number One - ECPv6.1.1//NONSGML v1.0//EN
CALSCALE:GREGORIAN
METHOD:PUBLISH
X-ORIGINAL-URL:https://nevernumberone.com
X-WR-CALDESC:Veranstaltungen für Never Number One
REFRESH-INTERVAL;VALUE=DURATION:PT1H
X-Robots-Tag:noindex
X-PUBLISHED-TTL:PT1H
BEGIN:VTIMEZONE
TZID:Europe/Paris
BEGIN:DAYLIGHT
TZOFFSETFROM:+0100
TZOFFSETTO:+0200
TZNAME:CEST
DTSTART:20230326T010000
END:DAYLIGHT
BEGIN:STANDARD
TZOFFSETFROM:+0200
TZOFFSETTO:+0100
TZNAME:CET
DTSTART:20231029T010000
END:STANDARD
BEGIN:DAYLIGHT
TZOFFSETFROM:+0100
TZOFFSETTO:+0200
TZNAME:CEST
DTSTART:20240331T010000
END:DAYLIGHT
BEGIN:STANDARD
TZOFFSETFROM:+0200
TZOFFSETTO:+0100
TZNAME:CET
DTSTART:20241027T010000
END:STANDARD
BEGIN:DAYLIGHT
TZOFFSETFROM:+0100
TZOFFSETTO:+0200
TZNAME:CEST
DTSTART:20250330T010000
END:DAYLIGHT
BEGIN:STANDARD
TZOFFSETFROM:+0200
TZOFFSETTO:+0100
TZNAME:CET
DTSTART:20251026T010000
END:STANDARD
TZID:UTC
BEGIN:STANDARD
TZOFFSETFROM:+0000
TZOFFSETTO:+0000
TZNAME:UTC
DTSTART:20200101T000000
END:STANDARD
END:VTIMEZONE
BEGIN:VEVENT
DTSTART;TZID=Europe/Paris:20250722T193000
DTEND;TZID=Europe/Paris:20250722T213000
DTSTAMP:20260420T124005
CREATED:20250630T164620Z
LAST-MODIFIED:20250717T222604Z
UID:339-1753212600-1753219800@nevernumberone.com
SUMMARY:Pizzeria Dei
DESCRIPTION:
URL:https://nevernumberone.com/event/pizzeria-dei/
LOCATION:Pizzeria Dei\, Am Sportplatz 22\, Oberhaching\, Bayern\, 82041\, Deutschland
END:VEVENT
BEGIN:VEVENT
DTSTART;TZID=Europe/Paris:20230915T210000
DTEND;TZID=Europe/Paris:20230915T233000
DTSTAMP:20260420T124005
CREATED:20230830T100433Z
LAST-MODIFIED:20230915T193146Z
UID:332-1694811600-1694820600@nevernumberone.com
SUMMARY:Kennedy`s
DESCRIPTION:
URL:https://nevernumberone.com/event/kennedys/
LOCATION:Kennedy‘s Bar & Restaurant\, Sendlinger-Tor-Platz 11\, München\, 80336\, Deutschland
END:VEVENT
BEGIN:VEVENT
DTSTART;TZID=UTC:20230630T210000
DTEND;TZID=UTC:20230630T233000
DTSTAMP:20260420T124005
CREATED:20221128T115837Z
LAST-MODIFIED:20230629T205056Z
UID:290-1688158800-1688167800@nevernumberone.com
SUMMARY:Kilian´s
DESCRIPTION:
URL:https://nevernumberone.com/event/kilians-11/
LOCATION:Kilian‘s Irish Pub\, Frauenplatz 11\, München\, 80331\, Deutschland
END:VEVENT
BEGIN:VEVENT
DTSTART;TZID=UTC:20230421T210000
DTEND;TZID=UTC:20230421T233000
DTSTAMP:20260420T124005
CREATED:20221128T115750Z
LAST-MODIFIED:20221128T115750Z
UID:288-1682110800-1682119800@nevernumberone.com
SUMMARY:Kilian´s
DESCRIPTION:
URL:https://nevernumberone.com/event/kilians-10/
LOCATION:Kilian‘s Irish Pub\, Frauenplatz 11\, München\, 80331\, Deutschland
END:VEVENT
BEGIN:VEVENT
DTSTART;TZID=UTC:20220923T210000
DTEND;TZID=UTC:20220923T233000
DTSTAMP:20260420T124005
CREATED:20220614T062703Z
LAST-MODIFIED:20220614T062703Z
UID:278-1663966800-1663975800@nevernumberone.com
SUMMARY:Kilian´s
DESCRIPTION:NNO endlich wieder live!
URL:https://nevernumberone.com/event/kilians-9/
LOCATION:Kilian‘s Irish Pub\, Frauenplatz 11\, München\, 80331\, Deutschland
END:VEVENT
BEGIN:VEVENT
DTSTART;TZID=UTC:20200801T210000
DTEND;TZID=UTC:20200801T230000
DTSTAMP:20260420T124005
CREATED:20200316T122553Z
LAST-MODIFIED:20200514T114510Z
UID:232-1596315600-1596322800@nevernumberone.com
SUMMARY:Sinnflut Festival Erding - ABGESAGT!-
DESCRIPTION:
URL:https://nevernumberone.com/event/sinnflut-festival-erding/
LOCATION:sinnflut\, Am Stadion\, Erding\, 85435\, Deutschland
END:VEVENT
BEGIN:VEVENT
DTSTART;TZID=UTC:20200328T220000
DTEND;TZID=UTC:20200329T130000
DTSTAMP:20260420T124005
CREATED:20191002T132531Z
LAST-MODIFIED:20200316T122017Z
UID:156-1585432800-1585486800@nevernumberone.com
SUMMARY:Kennedy´s - ABGESAGT -
DESCRIPTION:
URL:https://nevernumberone.com/event/kennedys-5/
LOCATION:Kennedy‘s Bar & Restaurant\, Sendlinger-Tor-Platz 11\, München\, 80336\, Deutschland
END:VEVENT
END:VCALENDAR